BEGIN:VCALENDAR
VERSION:2.0
PRODID:-//eventon.com NONSGML v1.0//EN
CALSCALE:GREGORIAN
METHOD:PUBLISH
BEGIN:VEVENT
UID:69e7477ed74ba
DTSTAMP:20260421T094638Z
DTSTART:20241115T230000Z
DTEND:20241116T190000Z
LOCATION:Plaza del Ayuntamiento
SUMMARY:CASTILLO DISNEY DE ENSUEÑO
DESCRIPTION:Ilusión y diversión para los peques de la casa con sus person
 ajes favoritos Disney. Habrá 2 pases y se accede por orden de llegada. Pri
 mer pase: 12:00 h Segundo Pase: 18:30 h. Organizado por la Concejalía de T
 urismo del Ayuntamiento de Linares en colaboración con Twins Animations.\n
 https://linaresfocal.es/events/castillo-disney-de-ensueno/
URL:https://linaresfocal.es/events/castillo-disney-de-ensueno/
END:VEVENT
END:VCALENDAR