BEGIN:VCALENDAR
VERSION:2.0
PRODID:-//eventon.com NONSGML v1.0//EN
CALSCALE:GREGORIAN
METHOD:PUBLISH
BEGIN:VEVENT
UID:69e5e8642c3f6
DTSTAMP:20260420T084836Z
DTSTART:20241108T193000Z
DTEND:20241108T210000Z
LOCATION:Teatro Cervantes C. Cervantes\,  4\,  23700 Linares\,  Jaén
SUMMARY:TRIBUTO A EL CANTO DEL LOCO
DESCRIPTION:Viernes 8 de noviembre\,  a las 20:30h en el Teatro Cervantes d
 e Linares\,  asiste al tributo a El Canto del Loco. ENTRADA POR INVITACIÓN
  HASTA COMPLETAR AFORO. Las entradas estarán disponibles en taquilla el mi
 ércoles 6 \,  en horario de 11h a 14h\,  y el viernes 8\,  de 11h a[..]\nh
 ttps://linaresfocal.es/events/tributo-a-el-canto-del-loco/
URL:https://linaresfocal.es/events/tributo-a-el-canto-del-loco/
END:VEVENT
END:VCALENDAR